BEGIN:VCALENDAR
VERSION:2.0
PRODID:-//https://www.wildthermasclub.com.br///NONSGML kigkonsult.se iCalcreator 2.10.15//
METHOD:PUBLISH
BEGIN:VEVENT
UID:20260419T190449UTC-1644FaJbHH@https://www.wildthermasclub.com.br/
DTSTAMP:20260419T190449Z
DESCRIPTION: https://www.wildthermasclub.com.br/pt-br/programacao/event/310
 1-clube-dos-pauzudos-as-tercas
DTSTART:20240716T170000Z
DTEND:20240717T020000Z
LOCATION:Rua Dr Veiga Filho 802 Higienópolis São Paulo (Rua Dr Veiga Filho 
 802 Higienópolis São Paulo)
SUMMARY:Clube dos Pauzudos às terças
URL:https://www.wildthermasclub.com.br/pt-br/programacao/event/3101-clube-d
 os-pauzudos-as-tercas
END:VEVENT
END:VCALENDAR
