BEGIN:VCALENDAR
VERSION:2.0
PRODID:-//https://www.wildthermasclub.com.br///NONSGML kigkonsult.se iCalcreator 2.10.15//
METHOD:PUBLISH
BEGIN:VEVENT
UID:20260424T153932UTC-61674RWCOl@https://www.wildthermasclub.com.br/
DTSTAMP:20260424T153932Z
DESCRIPTION: https://www.wildthermasclub.com.br/pt-br/programacao/event/306
 0-ultima-segunda-do-mes
DTSTART:20240624T170000Z
DTEND:20240625T020000Z
LOCATION:Rua Dr Veiga Filho 802 Higienópolis São Paulo (Rua Dr Veiga Filho 
 802 Higienópolis São Paulo)
SUMMARY:Última Segunda do Mês
URL:https://www.wildthermasclub.com.br/pt-br/programacao/event/3060-ultima-
 segunda-do-mes
END:VEVENT
END:VCALENDAR
