BEGIN:VCALENDAR
VERSION:2.0
PRODID:-//https://www.wildthermasclub.com.br///NONSGML kigkonsult.se iCalcreator 2.10.15//
METHOD:PUBLISH
BEGIN:VEVENT
UID:20260422T211129UTC-0636IeLPCE@https://www.wildthermasclub.com.br/
DTSTAMP:20260422T211129Z
DESCRIPTION: https://www.wildthermasclub.com.br/pt-br/programacao/event/299
 8-stripper-interativo-feriadao
DTSTART:20240501T170000Z
DTEND:20240502T020000Z
LOCATION:Rua Dr Veiga Filho 802 Higienópolis São Paulo (Rua Dr Veiga Filho 
 802 Higienópolis São Paulo)
SUMMARY:Stripper Interativo - feriadão
URL:https://www.wildthermasclub.com.br/pt-br/programacao/event/2998-strippe
 r-interativo-feriadao
END:VEVENT
END:VCALENDAR
