BEGIN:VCALENDAR
VERSION:2.0
PRODID:-//https://www.wildthermasclub.com.br///NONSGML kigkonsult.se iCalcreator 2.10.15//
METHOD:PUBLISH
BEGIN:VEVENT
UID:20260422T104938UTC-77621ZdBXs@https://www.wildthermasclub.com.br/
DTSTAMP:20260422T104938Z
DESCRIPTION: https://www.wildthermasclub.com.br/pt-br/programacao/event/238
 9-quarta-hot-r-38
DTSTART:20220810T170000Z
DTEND:20220811T020000Z
LOCATION:Rua Dr Veiga Filho 802 Higienópolis São Paulo (Rua Dr Veiga Filho 
 802 Higienópolis São Paulo)
SUMMARY:QUARTA HOT - R$ 38
URL:https://www.wildthermasclub.com.br/pt-br/programacao/event/2389-quarta-
 hot-r-38
END:VEVENT
END:VCALENDAR
