BEGIN:VCALENDAR
VERSION:2.0
PRODID:-//https://www.wildthermasclub.com.br///NONSGML kigkonsult.se iCalcreator 2.10.15//
METHOD:PUBLISH
BEGIN:VEVENT
UID:20260420T175850UTC-67366DtRrx@https://www.wildthermasclub.com.br/
DTSTAMP:20260420T175850Z
DESCRIPTION: https://www.wildthermasclub.com.br/pt-br/programacao/event/236
 9-domingo-tem-clube-dos-pauzudos
DTSTART:20220814T170000Z
DTEND:20220815T020000Z
LOCATION:Rua Dr Veiga Filho 802 Higienópolis São Paulo (Rua Dr Veiga Filho 
 802 Higienópolis São Paulo)
SUMMARY:Domingo tem Clube dos Pauzudos
URL:https://www.wildthermasclub.com.br/pt-br/programacao/event/2369-domingo
 -tem-clube-dos-pauzudos
END:VEVENT
END:VCALENDAR
