BEGIN:VCALENDAR
VERSION:2.0
PRODID:-//https://www.wildthermasclub.com.br///NONSGML kigkonsult.se iCalcreator 2.10.15//
METHOD:PUBLISH
BEGIN:VEVENT
UID:20260423T000710UTC-2566N0DTnb@https://www.wildthermasclub.com.br/
DTSTAMP:20260423T000710Z
DESCRIPTION: https://www.wildthermasclub.com.br/pt-br/programacao/event/235
 3-pegada-de-urso-quintas
DTSTART:20220804T170000Z
DTEND:20220805T020000Z
LOCATION:Rua Dr Veiga Filho 802 Higienópolis São Paulo (Rua Dr Veiga Filho 
 802 Higienópolis São Paulo)
SUMMARY:PEGADA DE URSO - quintas
URL:https://www.wildthermasclub.com.br/pt-br/programacao/event/2353-pegada-
 de-urso-quintas
END:VEVENT
END:VCALENDAR
