BEGIN:VCALENDAR
VERSION:2.0
PRODID:-//https://www.wildthermasclub.com.br///NONSGML kigkonsult.se iCalcreator 2.10.15//
METHOD:PUBLISH
BEGIN:VEVENT
UID:20260426T042856UTC-3130BETNmv@https://www.wildthermasclub.com.br/
DTSTAMP:20260426T042856Z
DESCRIPTION: https://www.wildthermasclub.com.br/pt-br/programacao/event/180
 6-quarta-feira-hot
DTSTART:20201202T160000Z
DTEND:20201203T000000Z
LOCATION:Rua Dr Veiga Filho 802 Higienópolis São Paulo (Rua Dr Veiga Filho 
 802 Higienópolis São Paulo)
SUMMARY:Quarta-feira HOT
URL:https://www.wildthermasclub.com.br/pt-br/programacao/event/1806-quarta-
 feira-hot
END:VEVENT
END:VCALENDAR
