BEGIN:VCALENDAR
VERSION:2.0
PRODID:-//https://www.wildthermasclub.com.br///NONSGML kigkonsult.se iCalcreator 2.10.15//
METHOD:PUBLISH
BEGIN:VEVENT
UID:20260423T131714UTC-8682u2KILv@https://www.wildthermasclub.com.br/
DTSTAMP:20260423T131714Z
DESCRIPTION: https://www.wildthermasclub.com.br/pt-br/programacao/event/176
 2-grupal-entre-machos-no-clube-dos-pauz
DTSTART:20201020T160000Z
DTEND:20201021T000000Z
LOCATION:Rua Dr Veiga Filho 802 Higienópolis São Paulo (Rua Dr Veiga Filho 
 802 Higienópolis São Paulo)
SUMMARY:Grupal Entre Machos no Clube dos Pauz
URL:https://www.wildthermasclub.com.br/pt-br/programacao/event/1762-grupal-
 entre-machos-no-clube-dos-pauz
END:VEVENT
END:VCALENDAR
