BEGIN:VCALENDAR
VERSION:2.0
PRODID:-//https://www.wildthermasclub.com.br///NONSGML kigkonsult.se iCalcreator 2.10.15//
METHOD:PUBLISH
BEGIN:VEVENT
UID:20260420T060407UTC-6730I1Ev1x@https://www.wildthermasclub.com.br/
DTSTAMP:20260420T060407Z
DESCRIPTION: https://www.wildthermasclub.com.br/pt-br/programacao/event/173
 4-massagens-depilacao-masc-diversao
DTSTART:20200919T170000Z
DTEND:20200920T010000Z
LOCATION:Rua Dr Veiga Filho 802 Higienópolis São Paulo (Rua Dr Veiga Filho 
 802 Higienópolis São Paulo)
SUMMARY:Massagens / Depilação Masc / Diversão
URL:https://www.wildthermasclub.com.br/pt-br/programacao/event/1734-massage
 ns-depilacao-masc-diversao
END:VEVENT
END:VCALENDAR
