BEGIN:VCALENDAR
VERSION:2.0
PRODID:-//https://www.wildthermasclub.com.br///NONSGML kigkonsult.se iCalcreator 2.10.15//
METHOD:PUBLISH
BEGIN:VEVENT
UID:20260420T080222UTC-3230wDVaAU@https://www.wildthermasclub.com.br/
DTSTAMP:20260420T080222Z
DESCRIPTION: https://www.wildthermasclub.com.br/pt-br/programacao/event/169
 7-ultima-segunda-feira-do-mes-mais-cedo-14-h
DTSTART:20200330T170000Z
DTEND:20200331T020000Z
LOCATION:Rua Dr Veiga Filho 802 Higienópolis São Paulo (Rua Dr Veiga Filho 
 802 Higienópolis São Paulo)
SUMMARY:ÚLTIMA SEGUNDA-FEIRA DO MÊS\, mais cedo\, 14 h
URL:https://www.wildthermasclub.com.br/pt-br/programacao/event/1697-ultima-
 segunda-feira-do-mes-mais-cedo-14-h
END:VEVENT
END:VCALENDAR
