BEGIN:VCALENDAR
VERSION:2.0
PRODID:-//https://www.wildthermasclub.com.br///NONSGML kigkonsult.se iCalcreator 2.10.15//
METHOD:PUBLISH
BEGIN:VEVENT
UID:20260421T084224UTC-4687wt6Hls@https://www.wildthermasclub.com.br/
DTSTAMP:20260421T084224Z
DESCRIPTION: https://www.wildthermasclub.com.br/pt-br/programacao/event/157
 6-domingo-tem-festa-grupal-no-clube
DTSTART:20191201T160000Z
DTEND:20191202T010000Z
LOCATION:Rua Dr Veiga Filho 802 Higienópolis São Paulo (Rua Dr Veiga Filho 
 802 Higienópolis São Paulo)
SUMMARY:Domingo tem festa grupal no Clube
URL:https://www.wildthermasclub.com.br/pt-br/programacao/event/1576-domingo
 -tem-festa-grupal-no-clube
END:VEVENT
END:VCALENDAR
