BEGIN:VCALENDAR
VERSION:2.0
PRODID:-//https://www.wildthermasclub.com.br///NONSGML kigkonsult.se iCalcreator 2.10.15//
METHOD:PUBLISH
BEGIN:VEVENT
UID:20260421T235732UTC-4124w4iCcW@https://www.wildthermasclub.com.br/
DTSTAMP:20260421T235732Z
DESCRIPTION: https://www.wildthermasclub.com.br/pt-br/programacao/event/153
 0-aniversario-do-clube-15-anos
DTSTART:20191123T010000Z
DTEND:20191123T070000Z
LOCATION:Rua Dr Veiga Filho 802 Higienópolis São Paulo (Rua Dr Veiga Filho 
 802 Higienópolis São Paulo)
SUMMARY:ANIVERSÁRIO do Clube - 15 anos
URL:https://www.wildthermasclub.com.br/pt-br/programacao/event/1530-anivers
 ario-do-clube-15-anos
END:VEVENT
END:VCALENDAR
