BEGIN:VCALENDAR
VERSION:2.0
PRODID:-//https://www.wildthermasclub.com.br///NONSGML kigkonsult.se iCalcreator 2.10.15//
METHOD:PUBLISH
BEGIN:VEVENT
UID:20260421T140757UTC-7757nBFRCc@https://www.wildthermasclub.com.br/
DTSTAMP:20260421T140757Z
DESCRIPTION: https://www.wildthermasclub.com.br/pt-br/programacao/event/152
 2-encontro-urso
DTSTART:20191003T170000Z
DTEND:20191004T020000Z
LOCATION:Rua Dr Veiga Filho 802 Higienópolis São Paulo (Rua Dr Veiga Filho 
 802 Higienópolis São Paulo)
SUMMARY:ENCONTRO URSO
URL:https://www.wildthermasclub.com.br/pt-br/programacao/event/1522-encontr
 o-urso
END:VEVENT
END:VCALENDAR
