BEGIN:VCALENDAR
VERSION:2.0
PRODID:-//https://www.wildthermasclub.com.br///NONSGML kigkonsult.se iCalcreator 2.10.15//
METHOD:PUBLISH
BEGIN:VEVENT
UID:20260420T231444UTC-90418bxza1@https://www.wildthermasclub.com.br/
DTSTAMP:20260420T231444Z
DESCRIPTION: https://www.wildthermasclub.com.br/pt-br/programacao/event/152
 0-encontro-dos-ursos
DTSTART:20190919T170000Z
DTEND:20190920T020000Z
LOCATION:Rua Dr Veiga Filho 802 Higienópolis São Paulo (Rua Dr Veiga Filho 
 802 Higienópolis São Paulo)
SUMMARY:ENCONTRO dos  URSOS
URL:https://www.wildthermasclub.com.br/pt-br/programacao/event/1520-encontr
 o-dos-ursos
END:VEVENT
END:VCALENDAR
