BEGIN:VCALENDAR
VERSION:2.0
PRODID:-//https://www.wildthermasclub.com.br///NONSGML kigkonsult.se iCalcreator 2.10.15//
METHOD:PUBLISH
BEGIN:VEVENT
UID:20260421T053312UTC-5666AGhOzP@https://www.wildthermasclub.com.br/
DTSTAMP:20260421T053312Z
DESCRIPTION: https://www.wildthermasclub.com.br/pt-br/programacao/event/151
 9-encontro-dos-ursos
DTSTART:20190912T170000Z
DTEND:20190913T020000Z
LOCATION:Rua Dr Veiga Filho 802 Higienópolis São Paulo (Rua Dr Veiga Filho 
 802 Higienópolis São Paulo)
SUMMARY:ENCONTRO dos  URSOS
URL:https://www.wildthermasclub.com.br/pt-br/programacao/event/1519-encontr
 o-dos-ursos
END:VEVENT
END:VCALENDAR
