BEGIN:VCALENDAR
VERSION:2.0
PRODID:-//https://www.wildthermasclub.com.br///NONSGML kigkonsult.se iCalcreator 2.10.15//
METHOD:PUBLISH
BEGIN:VEVENT
UID:20260422T071623UTC-2325ApJ1pi@https://www.wildthermasclub.com.br/
DTSTAMP:20260422T071623Z
DESCRIPTION: https://www.wildthermasclub.com.br/pt-br/programacao/event/151
 0-estudantina-dia-dos-universitarios-estudantes
DTSTART:20190916T170000Z
DTEND:20190917T020000Z
LOCATION:Rua Dr Veiga Filho 802 Higienópolis São Paulo (Rua Dr Veiga Filho 
 802 Higienópolis São Paulo)
SUMMARY:ESTUDANTINA - dia dos universitários/estudantes!
URL:https://www.wildthermasclub.com.br/pt-br/programacao/event/1510-estudan
 tina-dia-dos-universitarios-estudantes
END:VEVENT
END:VCALENDAR
