BEGIN:VCALENDAR
VERSION:2.0
PRODID:-//https://www.wildthermasclub.com.br///NONSGML kigkonsult.se iCalcreator 2.10.15//
METHOD:PUBLISH
BEGIN:VEVENT
UID:20260420T052912UTC-1396fNP7vs@https://www.wildthermasclub.com.br/
DTSTAMP:20260420T052912Z
DESCRIPTION: https://www.wildthermasclub.com.br/pt-br/programacao/event/186
 3-casados-indiscretos
DTSTART:20210204T170000Z
DTEND:20210205T010000Z
LOCATION:Rua Dr Veiga Filho 802 Higienópolis São Paulo (Rua Dr Veiga Filho 
 802 Higienópolis São Paulo)
SUMMARY:Casados InDiscretos
URL:https://www.wildthermasclub.com.br/pt-br/programacao/event/1863-casados
 -indiscretos
END:VEVENT
END:VCALENDAR
