BEGIN:VCALENDAR
VERSION:2.0
PRODID:-//https://www.wildthermasclub.com.br///NONSGML kigkonsult.se iCalcreator 2.10.15//
METHOD:PUBLISH
BEGIN:VEVENT
UID:20260425T174837UTC-1020EF8VNp@https://www.wildthermasclub.com.br/
DTSTAMP:20260425T174837Z
DESCRIPTION: https://www.wildthermasclub.com.br/pt-br/programacao/event/372
 9-desafio-gangbang-quem-se-habilita
DTSTART:20260502T020000Z
DTEND:20260502T080000Z
LOCATION:Rua Dr Veiga Filho 802 Higienópolis São Paulo (Rua Dr Veiga Filho 
 802 Higienópolis São Paulo)
SUMMARY:Desafio GANGBANG - quem se habilita?
URL:https://www.wildthermasclub.com.br/pt-br/programacao/event/3729-desafio
 -gangbang-quem-se-habilita
END:VEVENT
BEGIN:VEVENT
UID:20260425T174837UTC-1024Ut2ocb@https://www.wildthermasclub.com.br/
DTSTAMP:20260425T174837Z
DESCRIPTION: https://www.wildthermasclub.com.br/pt-br/programacao/event/373
 8-pegada-de-urso-todo-sabado
DTSTART:20260502T170000Z
DTEND:20260503T020000Z
LOCATION:Rua Dr Veiga Filho 802 Higienópolis São Paulo (Rua Dr Veiga Filho 
 802 Higienópolis São Paulo)
SUMMARY:PEGADA DE URSO -  todo sábado
URL:https://www.wildthermasclub.com.br/pt-br/programacao/event/3738-pegada-
 de-urso-todo-sabado
END:VEVENT
BEGIN:VEVENT
UID:20260425T174837UTC-1025SJdI0U@https://www.wildthermasclub.com.br/
DTSTAMP:20260425T174837Z
DESCRIPTION: https://www.wildthermasclub.com.br/pt-br/programacao/event/374
 2-domingo-tem-clube-dos-pauzudos
DTSTART:20260503T170000Z
DTEND:20260504T020000Z
LOCATION:Rua Dr Veiga Filho 802 Higienópolis São Paulo (Rua Dr Veiga Filho 
 802 Higienópolis São Paulo)
SUMMARY:Domingo tem Clube dos Pauzudos
URL:https://www.wildthermasclub.com.br/pt-br/programacao/event/3742-domingo
 -tem-clube-dos-pauzudos
END:VEVENT
BEGIN:VEVENT
UID:20260425T174837UTC-1026Jk1UZn@https://www.wildthermasclub.com.br/
DTSTAMP:20260425T174837Z
DESCRIPTION: https://www.wildthermasclub.com.br/pt-br/programacao/event/375
 2-quarta-hot-tem-barman-interativo
DTSTART:20260429T170000Z
DTEND:20260430T020000Z
LOCATION:Rua Dr Veiga Filho 802 Higienópolis São Paulo (Rua Dr Veiga Filho 
 802 Higienópolis São Paulo)
SUMMARY:Quarta Hot tem barman interativo
URL:https://www.wildthermasclub.com.br/pt-br/programacao/event/3752-quarta-
 hot-tem-barman-interativo
END:VEVENT
BEGIN:VEVENT
UID:20260425T174837UTC-1027BH4t1X@https://www.wildthermasclub.com.br/
DTSTAMP:20260425T174837Z
DESCRIPTION: https://www.wildthermasclub.com.br/pt-br/programacao/event/375
 6-quinta-tem-estudantina
DTSTART:20260430T170000Z
DTEND:20260501T020000Z
LOCATION:Rua Dr Veiga Filho 802 Higienópolis São Paulo (Rua Dr Veiga Filho 
 802 Higienópolis São Paulo)
SUMMARY:Quinta tem Estudantina 
URL:https://www.wildthermasclub.com.br/pt-br/programacao/event/3756-quinta-
 tem-estudantina
END:VEVENT
END:VCALENDAR
