BEGIN:VCALENDAR
VERSION:2.0
PRODID:-//https://www.wildthermasclub.com.br///NONSGML kigkonsult.se iCalcreator 2.10.15//
METHOD:PUBLISH
BEGIN:VEVENT
UID:20260421T090157UTC-6547Be8HN5@https://www.wildthermasclub.com.br/
DTSTAMP:20260421T090157Z
DESCRIPTION: https://www.wildthermasclub.com.br/en/events/event/3729-desafi
 o-gangbang-quem-se-habilita
DTSTART:20260502T020000Z
DTEND:20260502T080000Z
LOCATION:Rua Dr Veiga Filho 802 Higienópolis São Paulo (Rua Dr Veiga Filho 
 802 Higienópolis São Paulo)
SUMMARY:Desafio GANGBANG - quem se habilita?
URL:https://www.wildthermasclub.com.br/en/events/event/3729-desafio-gangban
 g-quem-se-habilita
END:VEVENT
BEGIN:VEVENT
UID:20260421T090157UTC-6550jsjZTX@https://www.wildthermasclub.com.br/
DTSTAMP:20260421T090157Z
DESCRIPTION: https://www.wildthermasclub.com.br/en/events/event/3731-vale-t
 udo-no-clube-dos-pauzudos
DTSTART:20260418T020000Z
DTEND:20260418T080000Z
LOCATION:Rua Dr Veiga Filho 802 Higienópolis São Paulo (Rua Dr Veiga Filho 
 802 Higienópolis São Paulo)
SUMMARY:Vale Tudo no Clube dos Pauzudos
URL:https://www.wildthermasclub.com.br/en/events/event/3731-vale-tudo-no-cl
 ube-dos-pauzudos
END:VEVENT
BEGIN:VEVENT
UID:20260421T090157UTC-6551SB7m8a@https://www.wildthermasclub.com.br/
DTSTAMP:20260421T090157Z
DESCRIPTION: https://www.wildthermasclub.com.br/en/events/event/3732-mr-bar
 budo-barbudos-sao-especiais-nesse-dia
DTSTART:20260425T020000Z
DTEND:20260425T080000Z
LOCATION:Rua Dr Veiga Filho 802 Higienópolis São Paulo (Rua Dr Veiga Filho 
 802 Higienópolis São Paulo)
SUMMARY:Mr Barbudo - barbudos são especiais nesse dia
URL:https://www.wildthermasclub.com.br/en/events/event/3732-mr-barbudo-barb
 udos-sao-especiais-nesse-dia
END:VEVENT
BEGIN:VEVENT
UID:20260421T090157UTC-65526otzIU@https://www.wildthermasclub.com.br/
DTSTAMP:20260421T090157Z
DESCRIPTION: https://www.wildthermasclub.com.br/en/events/event/3733-clube-
 dos-pauzudos-do-feriadao
DTSTART:20260421T170000Z
DTEND:20260422T020000Z
LOCATION:Rua Dr Veiga Filho 802 Higienópolis São Paulo (Rua Dr Veiga Filho 
 802 Higienópolis São Paulo)
SUMMARY:Clube dos Pauzudos do Feriadão
URL:https://www.wildthermasclub.com.br/en/events/event/3733-clube-dos-pauzu
 dos-do-feriadao
END:VEVENT
BEGIN:VEVENT
UID:20260421T090157UTC-6553O9Ka0J@https://www.wildthermasclub.com.br/
DTSTAMP:20260421T090157Z
DESCRIPTION: https://www.wildthermasclub.com.br/en/events/event/3734-ultima
 -segunda-do-mes-de-abril
DTSTART:20260427T170000Z
DTEND:20260428T020000Z
LOCATION:Rua Dr Veiga Filho 802 Higienópolis São Paulo (Rua Dr Veiga Filho 
 802 Higienópolis São Paulo)
SUMMARY:Última Segunda do Mês de Abril
URL:https://www.wildthermasclub.com.br/en/events/event/3734-ultima-segunda-
 do-mes-de-abril
END:VEVENT
BEGIN:VEVENT
UID:20260421T090157UTC-65549MaVbS@https://www.wildthermasclub.com.br/
DTSTAMP:20260421T090157Z
DESCRIPTION: https://www.wildthermasclub.com.br/en/events/event/3736-pegada
 -de-urso-todo-sabado
DTSTART:20260418T170000Z
DTEND:20260419T020000Z
LOCATION:Rua Dr Veiga Filho 802 Higienópolis São Paulo (Rua Dr Veiga Filho 
 802 Higienópolis São Paulo)
SUMMARY:PEGADA DE URSO -  todo sábado
URL:https://www.wildthermasclub.com.br/en/events/event/3736-pegada-de-urso-
 todo-sabado
END:VEVENT
BEGIN:VEVENT
UID:20260421T090157UTC-6556aovdb0@https://www.wildthermasclub.com.br/
DTSTAMP:20260421T090157Z
DESCRIPTION: https://www.wildthermasclub.com.br/en/events/event/3737-pegada
 -de-urso-todo-sabado
DTSTART:20260425T170000Z
DTEND:20260426T020000Z
LOCATION:Rua Dr Veiga Filho 802 Higienópolis São Paulo (Rua Dr Veiga Filho 
 802 Higienópolis São Paulo)
SUMMARY:PEGADA DE URSO -  todo sábado
URL:https://www.wildthermasclub.com.br/en/events/event/3737-pegada-de-urso-
 todo-sabado
END:VEVENT
BEGIN:VEVENT
UID:20260421T090157UTC-6557AAoGhP@https://www.wildthermasclub.com.br/
DTSTAMP:20260421T090157Z
DESCRIPTION: https://www.wildthermasclub.com.br/en/events/event/3738-pegada
 -de-urso-todo-sabado
DTSTART:20260502T170000Z
DTEND:20260503T020000Z
LOCATION:Rua Dr Veiga Filho 802 Higienópolis São Paulo (Rua Dr Veiga Filho 
 802 Higienópolis São Paulo)
SUMMARY:PEGADA DE URSO -  todo sábado
URL:https://www.wildthermasclub.com.br/en/events/event/3738-pegada-de-urso-
 todo-sabado
END:VEVENT
BEGIN:VEVENT
UID:20260421T090157UTC-65586nH6Un@https://www.wildthermasclub.com.br/
DTSTAMP:20260421T090157Z
DESCRIPTION: https://www.wildthermasclub.com.br/en/events/event/3740-doming
 o-tem-clube-dos-pauzudos
DTSTART:20260419T170000Z
DTEND:20260420T020000Z
LOCATION:Rua Dr Veiga Filho 802 Higienópolis São Paulo (Rua Dr Veiga Filho 
 802 Higienópolis São Paulo)
SUMMARY:Domingo tem Clube dos Pauzudos
URL:https://www.wildthermasclub.com.br/en/events/event/3740-domingo-tem-clu
 be-dos-pauzudos
END:VEVENT
BEGIN:VEVENT
UID:20260421T090157UTC-6559tt4bAL@https://www.wildthermasclub.com.br/
DTSTAMP:20260421T090157Z
DESCRIPTION: https://www.wildthermasclub.com.br/en/events/event/3741-doming
 o-tem-clube-dos-pauzudos
DTSTART:20260426T170000Z
DTEND:20260427T020000Z
LOCATION:Rua Dr Veiga Filho 802 Higienópolis São Paulo (Rua Dr Veiga Filho 
 802 Higienópolis São Paulo)
SUMMARY:Domingo tem Clube dos Pauzudos
URL:https://www.wildthermasclub.com.br/en/events/event/3741-domingo-tem-clu
 be-dos-pauzudos
END:VEVENT
BEGIN:VEVENT
UID:20260421T090157UTC-65609dRhue@https://www.wildthermasclub.com.br/
DTSTAMP:20260421T090157Z
DESCRIPTION: https://www.wildthermasclub.com.br/en/events/event/3742-doming
 o-tem-clube-dos-pauzudos
DTSTART:20260503T170000Z
DTEND:20260504T020000Z
LOCATION:Rua Dr Veiga Filho 802 Higienópolis São Paulo (Rua Dr Veiga Filho 
 802 Higienópolis São Paulo)
SUMMARY:Domingo tem Clube dos Pauzudos
URL:https://www.wildthermasclub.com.br/en/events/event/3742-domingo-tem-clu
 be-dos-pauzudos
END:VEVENT
BEGIN:VEVENT
UID:20260421T090157UTC-6561fUIJJm@https://www.wildthermasclub.com.br/
DTSTAMP:20260421T090157Z
DESCRIPTION: https://www.wildthermasclub.com.br/en/events/event/3745-segund
 a-de-saunas-na-wild-thermas
DTSTART:20260420T170000Z
DTEND:20260421T020000Z
LOCATION:Rua Dr Veiga Filho 802 Higienópolis São Paulo (Rua Dr Veiga Filho 
 802 Higienópolis São Paulo)
SUMMARY:Segunda de saunas na Wild Thermas
URL:https://www.wildthermasclub.com.br/en/events/event/3745-segunda-de-saun
 as-na-wild-thermas
END:VEVENT
BEGIN:VEVENT
UID:20260421T090157UTC-6562GgbuHo@https://www.wildthermasclub.com.br/
DTSTAMP:20260421T090157Z
DESCRIPTION: https://www.wildthermasclub.com.br/en/events/event/3748-terca-
 tem-clube-dos-pauzudos
DTSTART:20260428T170000Z
DTEND:20260429T020000Z
LOCATION:Rua Dr Veiga Filho 802 Higienópolis São Paulo (Rua Dr Veiga Filho 
 802 Higienópolis São Paulo)
SUMMARY:Terça tem Clube dos Pauzudos
URL:https://www.wildthermasclub.com.br/en/events/event/3748-terca-tem-clube
 -dos-pauzudos
END:VEVENT
BEGIN:VEVENT
UID:20260421T090157UTC-6563vPeFC0@https://www.wildthermasclub.com.br/
DTSTAMP:20260421T090157Z
DESCRIPTION: https://www.wildthermasclub.com.br/en/events/event/3751-quarta
 -hot-tem-barman-interativo
DTSTART:20260422T170000Z
DTEND:20260423T020000Z
LOCATION:Rua Dr Veiga Filho 802 Higienópolis São Paulo (Rua Dr Veiga Filho 
 802 Higienópolis São Paulo)
SUMMARY:Quarta Hot tem barman interativo
URL:https://www.wildthermasclub.com.br/en/events/event/3751-quarta-hot-tem-
 barman-interativo
END:VEVENT
BEGIN:VEVENT
UID:20260421T090157UTC-6564KVtdOM@https://www.wildthermasclub.com.br/
DTSTAMP:20260421T090157Z
DESCRIPTION: https://www.wildthermasclub.com.br/en/events/event/3752-quarta
 -hot-tem-barman-interativo
DTSTART:20260429T170000Z
DTEND:20260430T020000Z
LOCATION:Rua Dr Veiga Filho 802 Higienópolis São Paulo (Rua Dr Veiga Filho 
 802 Higienópolis São Paulo)
SUMMARY:Quarta Hot tem barman interativo
URL:https://www.wildthermasclub.com.br/en/events/event/3752-quarta-hot-tem-
 barman-interativo
END:VEVENT
BEGIN:VEVENT
UID:20260421T090157UTC-6565EZvVC6@https://www.wildthermasclub.com.br/
DTSTAMP:20260421T090157Z
DESCRIPTION: https://www.wildthermasclub.com.br/en/events/event/3754-quinta
 -tem-estudantina
DTSTART:20260416T170000Z
DTEND:20260417T020000Z
LOCATION:Rua Dr Veiga Filho 802 Higienópolis São Paulo (Rua Dr Veiga Filho 
 802 Higienópolis São Paulo)
SUMMARY:Quinta tem Estudantina 
URL:https://www.wildthermasclub.com.br/en/events/event/3754-quinta-tem-estu
 dantina
END:VEVENT
BEGIN:VEVENT
UID:20260421T090157UTC-6566lvTNBm@https://www.wildthermasclub.com.br/
DTSTAMP:20260421T090157Z
DESCRIPTION: https://www.wildthermasclub.com.br/en/events/event/3755-quinta
 -tem-estudantina
DTSTART:20260423T170000Z
DTEND:20260424T020000Z
LOCATION:Rua Dr Veiga Filho 802 Higienópolis São Paulo (Rua Dr Veiga Filho 
 802 Higienópolis São Paulo)
SUMMARY:Quinta tem Estudantina 
URL:https://www.wildthermasclub.com.br/en/events/event/3755-quinta-tem-estu
 dantina
END:VEVENT
BEGIN:VEVENT
UID:20260421T090157UTC-6567v9EpAt@https://www.wildthermasclub.com.br/
DTSTAMP:20260421T090157Z
DESCRIPTION: https://www.wildthermasclub.com.br/en/events/event/3756-quinta
 -tem-estudantina
DTSTART:20260430T170000Z
DTEND:20260501T020000Z
LOCATION:Rua Dr Veiga Filho 802 Higienópolis São Paulo (Rua Dr Veiga Filho 
 802 Higienópolis São Paulo)
SUMMARY:Quinta tem Estudantina 
URL:https://www.wildthermasclub.com.br/en/events/event/3756-quinta-tem-estu
 dantina
END:VEVENT
END:VCALENDAR
