BEGIN:VCALENDAR
VERSION:2.0
PRODID:-//https://www.wildthermasclub.com.br///NONSGML kigkonsult.se iCalcreator 2.10.15//
METHOD:PUBLISH
BEGIN:VEVENT
UID:20260420T060528UTC-8914WCGC0j@https://www.wildthermasclub.com.br/
DTSTAMP:20260420T060528Z
DESCRIPTION: https://www.wildthermasclub.com.br/en/events/event/3255-clube-
 dos-pauzudos-dotados-sao-vip
DTSTART:20241221T020000Z
DTEND:20241221T080000Z
LOCATION:Rua Dr Veiga Filho 802 Higienópolis São Paulo (Rua Dr Veiga Filho 
 802 Higienópolis São Paulo)
SUMMARY:Clube dos Pauzudos - dotados são VIP
URL:https://www.wildthermasclub.com.br/en/events/event/3255-clube-dos-pauzu
 dos-dotados-sao-vip
END:VEVENT
END:VCALENDAR
