BEGIN:VCALENDAR
VERSION:2.0
PRODID:-//https://www.wildthermasclub.com.br///NONSGML kigkonsult.se iCalcreator 2.10.15//
METHOD:PUBLISH
BEGIN:VEVENT
UID:20260423T105012UTC-8784TucpeP@https://www.wildthermasclub.com.br/
DTSTAMP:20260423T105012Z
DESCRIPTION: https://www.wildthermasclub.com.br/en/events/event/3184-hallow
 een-na-ultima-segunda-do-mes
DTSTART:20241028T170000Z
DTEND:20241029T020000Z
LOCATION:Rua Dr Veiga Filho 802 Higienópolis São Paulo (Rua Dr Veiga Filho 
 802 Higienópolis São Paulo)
SUMMARY:HALLOWEEN na ÚLTIMA SEGUNDA DO MÊS
URL:https://www.wildthermasclub.com.br/en/events/event/3184-halloween-na-ul
 tima-segunda-do-mes
END:VEVENT
END:VCALENDAR
