BEGIN:VCALENDAR
VERSION:2.0
PRODID:-//https://www.wildthermasclub.com.br///NONSGML kigkonsult.se iCalcreator 2.10.15//
METHOD:PUBLISH
BEGIN:VEVENT
UID:20260419T132803UTC-3512fIkvcw@https://www.wildthermasclub.com.br/
DTSTAMP:20260419T132803Z
DESCRIPTION: https://www.wildthermasclub.com.br/en/events/event/3168-quarta
 -hot-tem-barman-interativo
DTSTART:20240911T170000Z
DTEND:20240912T020000Z
LOCATION:Rua Dr Veiga Filho 802 Higienópolis São Paulo (Rua Dr Veiga Filho 
 802 Higienópolis São Paulo)
SUMMARY: Quarta Hot tem barman interativo
URL:https://www.wildthermasclub.com.br/en/events/event/3168-quarta-hot-tem-
 barman-interativo
END:VEVENT
END:VCALENDAR
