BEGIN:VCALENDAR
VERSION:2.0
PRODID:-//https://www.wildthermasclub.com.br///NONSGML kigkonsult.se iCalcreator 2.10.15//
METHOD:PUBLISH
BEGIN:VEVENT
UID:20260424T181858UTC-69754sOWZj@https://www.wildthermasclub.com.br/
DTSTAMP:20260424T181858Z
DESCRIPTION: https://www.wildthermasclub.com.br/en/component/rseventspro/ev
 ent/2955-homens-cavalos-dotados-sao-vip?Itemid=299
DTSTART:20240309T020000Z
DTEND:20240309T080000Z
LOCATION:Rua Dr Veiga Filho 802 Higienópolis São Paulo (Rua Dr Veiga Filho 
 802 Higienópolis São Paulo)
SUMMARY:Homens Cavalos - dotados são VIP
URL:https://www.wildthermasclub.com.br/en/component/rseventspro/event/2955-
 homens-cavalos-dotados-sao-vip?Itemid=299
END:VEVENT
END:VCALENDAR
